BEGIN:VCALENDAR
VERSION:2.0
PRODID:-//Better Legal Tech - ECPv6.15.17.1//NONSGML v1.0//EN
CALSCALE:GREGORIAN
METHOD:PUBLISH
X-WR-CALNAME:Better Legal Tech
X-ORIGINAL-URL:https://legal-engineering.ru
X-WR-CALDESC:Events for Better Legal Tech
REFRESH-INTERVAL;VALUE=DURATION:PT1H
X-Robots-Tag:noindex
X-PUBLISHED-TTL:PT1H
BEGIN:VTIMEZONE
TZID:Europe/Warsaw
BEGIN:DAYLIGHT
TZOFFSETFROM:+0100
TZOFFSETTO:+0200
TZNAME:CEST
DTSTART:20250330T010000
END:DAYLIGHT
BEGIN:STANDARD
TZOFFSETFROM:+0200
TZOFFSETTO:+0100
TZNAME:CET
DTSTART:20251026T010000
END:STANDARD
BEGIN:DAYLIGHT
TZOFFSETFROM:+0100
TZOFFSETTO:+0200
TZNAME:CEST
DTSTART:20260329T010000
END:DAYLIGHT
BEGIN:STANDARD
TZOFFSETFROM:+0200
TZOFFSETTO:+0100
TZNAME:CET
DTSTART:20261025T010000
END:STANDARD
BEGIN:DAYLIGHT
TZOFFSETFROM:+0100
TZOFFSETTO:+0200
TZNAME:CEST
DTSTART:20270328T010000
END:DAYLIGHT
BEGIN:STANDARD
TZOFFSETFROM:+0200
TZOFFSETTO:+0100
TZNAME:CET
DTSTART:20271031T010000
END:STANDARD
END:VTIMEZONE
BEGIN:VTIMEZONE
TZID:Europe/London
BEGIN:DAYLIGHT
TZOFFSETFROM:+0000
TZOFFSETTO:+0100
TZNAME:BST
DTSTART:20250330T010000
END:DAYLIGHT
BEGIN:STANDARD
TZOFFSETFROM:+0100
TZOFFSETTO:+0000
TZNAME:GMT
DTSTART:20251026T010000
END:STANDARD
BEGIN:DAYLIGHT
TZOFFSETFROM:+0000
TZOFFSETTO:+0100
TZNAME:BST
DTSTART:20260329T010000
END:DAYLIGHT
BEGIN:STANDARD
TZOFFSETFROM:+0100
TZOFFSETTO:+0000
TZNAME:GMT
DTSTART:20261025T010000
END:STANDARD
BEGIN:DAYLIGHT
TZOFFSETFROM:+0000
TZOFFSETTO:+0100
TZNAME:BST
DTSTART:20270328T010000
END:DAYLIGHT
BEGIN:STANDARD
TZOFFSETFROM:+0100
TZOFFSETTO:+0000
TZNAME:GMT
DTSTART:20271031T010000
END:STANDARD
END:VTIMEZONE
BEGIN:VTIMEZONE
TZID:America/Vancouver
BEGIN:DAYLIGHT
TZOFFSETFROM:-0800
TZOFFSETTO:-0700
TZNAME:PDT
DTSTART:20250309T100000
END:DAYLIGHT
BEGIN:STANDARD
TZOFFSETFROM:-0700
TZOFFSETTO:-0800
TZNAME:PST
DTSTART:20251102T090000
END:STANDARD
BEGIN:DAYLIGHT
TZOFFSETFROM:-0800
TZOFFSETTO:-0700
TZNAME:PDT
DTSTART:20260308T100000
END:DAYLIGHT
BEGIN:STANDARD
TZOFFSETFROM:-0700
TZOFFSETTO:-0800
TZNAME:PST
DTSTART:20261101T090000
END:STANDARD
BEGIN:DAYLIGHT
TZOFFSETFROM:-0800
TZOFFSETTO:-0700
TZNAME:PDT
DTSTART:20270314T100000
END:DAYLIGHT
BEGIN:STANDARD
TZOFFSETFROM:-0700
TZOFFSETTO:-0800
TZNAME:PST
DTSTART:20271107T090000
END:STANDARD
END:VTIMEZONE
BEGIN:VEVENT
DTSTART;VALUE=DATE:20260422
DTEND;VALUE=DATE:20260424
DTSTAMP:20260420T175022
CREATED:20260223T095019Z
LAST-MODIFIED:20260223T095019Z
UID:5061-1776816000-1776988799@legal-engineering.ru
SUMMARY:LUBLINnovation 2026
DESCRIPTION:
URL:https://legal-engineering.ru/event/lublinnovation-2026/
LOCATION:Centrum Spotkania Kultur\, plac Teatralny 1\, Lublin\, 20-029\, Poland
CATEGORIES:Conference
ATTACH;FMTTYPE=image/jpeg:https://legal-engineering.ru/wp-content/uploads/2026/02/lublinnovation_logo.jpg
ORGANIZER;CN="LUBLINnovation":MAILTO:contact@lublinnovation.com
END:VEVENT
BEGIN:VEVENT
DTSTART;VALUE=DATE:20260423
DTEND;VALUE=DATE:20260424
DTSTAMP:20260420T175022
CREATED:20260124T073250Z
LAST-MODIFIED:20260124T073250Z
UID:5032-1776902400-1776988799@legal-engineering.ru
SUMMARY:LTH Horizons London 2026
DESCRIPTION:Legal AI is moving fast — but meaningful progress comes from learning what’s actually working. \nOur second 𝗟𝗧𝗛 𝗛𝗼𝗿𝗶𝘇𝗼𝗻𝘀 𝗟𝗼𝗻𝗱𝗼𝗻 event is a focused\, one-day event for legal leaders who want practical insight they can take straight back to their organisations. \n𝗬𝗼𝘂’𝗹𝗹 𝗵𝗲𝗮𝗿 𝗱𝗶𝗿𝗲𝗰𝘁𝗹𝘆 𝗳𝗿𝗼𝗺:\n• Legal teams already driving real AI adoption\n• Clients explaining what they really want from law firms\n• Experts sharing hard-won lessons on implementation\, change\, and impact \n𝗪𝗵𝘆 𝗮𝘁𝘁𝗲𝗻𝗱?\nBecause the value doesn’t end on the day. You’ll leave with clearer priorities\, sharper questions\, and the confidence to make technology decisions that create real\, lasting impact across your firm or legal team.
URL:https://legal-engineering.ru/event/lth-horizons-london-2026/
LOCATION:Convene\, 117 W 46th St\, New York\, NY\, NY 10036\, United States
CATEGORIES:Conference
ATTACH;FMTTYPE=image/jpeg:https://legal-engineering.ru/wp-content/uploads/2026/01/lthhorizons26.jpg
END:VEVENT
BEGIN:VEVENT
DTSTART;VALUE=DATE:20260428
DTEND;VALUE=DATE:20260430
DTSTAMP:20260420T175022
CREATED:20260305T190103Z
LAST-MODIFIED:20260305T190103Z
UID:5081-1777334400-1777507199@legal-engineering.ru
SUMMARY:LawDroid AI Conference 2026
DESCRIPTION:The LawDroid AI Conference returns in 2026\, bringing together innovators\, practitioners\, and leaders to explore how artificial intelligence is transforming the legal profession. \nThis free\, two-day virtual conference brings together lawyers\, legal aid advocates\, court innovators\, technologists\, academics\, and legal-tech enthusiasts from around the world to learn\, share ideas\, and discover practical ways to use AI in legal work and access to justice. \nWhether you’re curious about AI or already experimenting with it in your organization\, the LawDroid AI Conference is designed to give you real insights you can apply immediately. \nExpect thoughtful discussions\, practical demonstrations\, and conversations about the opportunities and challenges AI presents for the legal profession and access to justice. \nWhat You’ll Experience\nJoin industry leaders\, innovators\, and legal professionals for an immersive event that inspires and informs. \n\nKeynote speakers exploring the future of AI and its impact on the legal profession\nPanel discussions covering ethics\, journalism\, education\, and the evolving practice of law\nSessions dedicated to access to justice\, emphasizing legal aid and court innovation\nHands-on workshops teaching practical AI skills you can apply immediately\nA global network of professionals shaping the future of legal technology\n\n 
URL:https://legal-engineering.ru/event/lawdroid-ai-conference-2026/
LOCATION:Online
CATEGORIES:Conference
ATTACH;FMTTYPE=image/png:https://legal-engineering.ru/wp-content/uploads/2026/03/lawdroid.png
END:VEVENT
END:VCALENDAR